BEGIN:VCALENDAR
VERSION:2.0
PRODID:-//Koča na Ljubelju - ECPv5.1.5//NONSGML v1.0//EN
CALSCALE:GREGORIAN
METHOD:PUBLISH
X-WR-CALNAME:Koča na Ljubelju
X-ORIGINAL-URL:https://stari-loibl.com
X-WR-CALDESC:Events for Koča na Ljubelju
BEGIN:VTIMEZONE
TZID:Europe/Ljubljana
BEGIN:DAYLIGHT
TZOFFSETFROM:+0100
TZOFFSETTO:+0200
TZNAME:CEST
DTSTART:20250330T010000
END:DAYLIGHT
BEGIN:STANDARD
TZOFFSETFROM:+0200
TZOFFSETTO:+0100
TZNAME:CET
DTSTART:20251026T010000
END:STANDARD
END:VTIMEZONE
BEGIN:VEVENT
DTSTART;VALUE=DATE:20250421
DTEND;VALUE=DATE:20250422
DTSTAMP:20260423T110637
CREATED:20180924T202652Z
LAST-MODIFIED:20250209T210933Z
UID:438-1745193600-1745279999@stari-loibl.com
SUMMARY:11. Velikonočna malica v Koči Stari-Loibl Hütte
DESCRIPTION:
URL:https://stari-loibl.com/dogodki/velikonocna-malica-v-koci-stari-loibl-hutte/
LOCATION:Koča na Ljubelju\, Ljubelj\, Tržič\, 9163\, Slovenija
ATTACH;FMTTYPE=image/jpeg:https://stari-loibl.com/wp-content/uploads/2018/09/stari-loibl-velikonocni-zajtrk.jpg
END:VEVENT
END:VCALENDAR