BEGIN:VCALENDAR
VERSION:2.0
PRODID:-//Koča na Ljubelju - ECPv5.1.5//NONSGML v1.0//EN
CALSCALE:GREGORIAN
METHOD:PUBLISH
X-WR-CALNAME:Koča na Ljubelju
X-ORIGINAL-URL:https://stari-loibl.com
X-WR-CALDESC:Events for Koča na Ljubelju
BEGIN:VTIMEZONE
TZID:Europe/Ljubljana
BEGIN:DAYLIGHT
TZOFFSETFROM:+0100
TZOFFSETTO:+0200
TZNAME:CEST
DTSTART:20200329T010000
END:DAYLIGHT
BEGIN:STANDARD
TZOFFSETFROM:+0200
TZOFFSETTO:+0100
TZNAME:CET
DTSTART:20201025T010000
END:STANDARD
END:VTIMEZONE
BEGIN:VEVENT
DTSTART;VALUE=DATE:20200501
DTEND;VALUE=DATE:20200503
DTSTAMP:20260422T114053
CREATED:20180924T202740Z
LAST-MODIFIED:20191119T094145Z
UID:765-1588298400-1588384799@stari-loibl.com
SUMMARY:Majsko praznovanje na Starem Ljubelju
DESCRIPTION:
URL:https://stari-loibl.com/dogodki/majsko-praznovanje-na-starem-ljubelju-2020/
LOCATION:Koča na Ljubelju\, Ljubelj\, Tržič\, 9163\, Slovenija
ATTACH;FMTTYPE=image/jpeg:https://stari-loibl.com/wp-content/uploads/2018/09/stari-loibl-majsko-praznovanje-1.jpg
END:VEVENT
END:VCALENDAR