BEGIN:VCALENDAR
VERSION:2.0
PRODID:-//Koča na Ljubelju - ECPv5.1.5//NONSGML v1.0//EN
CALSCALE:GREGORIAN
METHOD:PUBLISH
X-WR-CALNAME:Koča na Ljubelju
X-ORIGINAL-URL:https://stari-loibl.com
X-WR-CALDESC:Events for Koča na Ljubelju
BEGIN:VTIMEZONE
TZID:Europe/Ljubljana
BEGIN:DAYLIGHT
TZOFFSETFROM:+0100
TZOFFSETTO:+0200
TZNAME:CEST
DTSTART:20220327T010000
END:DAYLIGHT
BEGIN:STANDARD
TZOFFSETFROM:+0200
TZOFFSETTO:+0100
TZNAME:CET
DTSTART:20221030T010000
END:STANDARD
END:VTIMEZONE
BEGIN:VEVENT
DTSTART;VALUE=DATE:20220716
DTEND;VALUE=DATE:20220717
DTSTAMP:20260422T175423
CREATED:20181128T190420Z
LAST-MODIFIED:20220703T102648Z
UID:775-1657929600-1658015999@stari-loibl.com
SUMMARY:Praznovanje poletja ob žaru na Starem Ljubelju
DESCRIPTION:
URL:https://stari-loibl.com/dogodki/5-praznovanje-poletja-ob-zaru-na-starem-ljubelju-2020/
LOCATION:Koča na Ljubelju\, Ljubelj\, Tržič\, 9163\, Slovenija
ATTACH;FMTTYPE=image/jpeg:https://stari-loibl.com/wp-content/uploads/2018/11/stari-loibl-zar-2.jpg
END:VEVENT
END:VCALENDAR