BEGIN:VCALENDAR
VERSION:2.0
PRODID:-//Koča na Ljubelju - ECPv5.1.5//NONSGML v1.0//EN
CALSCALE:GREGORIAN
METHOD:PUBLISH
X-WR-CALNAME:Koča na Ljubelju
X-ORIGINAL-URL:https://stari-loibl.com/de/
X-WR-CALDESC:Veranstaltungen für Koča na Ljubelju
BEGIN:VTIMEZONE
TZID:Europe/Ljubljana
BEGIN:DAYLIGHT
TZOFFSETFROM:+0100
TZOFFSETTO:+0200
TZNAME:CEST
DTSTART:20230326T010000
END:DAYLIGHT
BEGIN:STANDARD
TZOFFSETFROM:+0200
TZOFFSETTO:+0100
TZNAME:CET
DTSTART:20231029T010000
END:STANDARD
END:VTIMEZONE
BEGIN:VEVENT
DTSTART;VALUE=DATE:20230618
DTEND;VALUE=DATE:20230619
DTSTAMP:20260422T162203
CREATED:20181128T190542Z
LAST-MODIFIED:20230301T185314Z
UID:788-1687046400-1687132799@stari-loibl.com
SUMMARY:25. Oldtimertreffen am Stari Loibl
DESCRIPTION:
URL:https://stari-loibl.com/de/dogodki/oldtimertreffen-am-stari-loibl/
LOCATION:Koča Stari Loibl Hütte\, Loibl\, Tržič\, 9163\, Slovenija
ATTACH;FMTTYPE=image/jpeg:https://stari-loibl.com/wp-content/uploads/2018/11/stari-loibl-srecanje-oldtimerjev.jpg
END:VEVENT
END:VCALENDAR