BEGIN:VCALENDAR
VERSION:2.0
PRODID:-//Koča na Ljubelju - ECPv5.1.5//NONSGML v1.0//EN
CALSCALE:GREGORIAN
METHOD:PUBLISH
X-WR-CALNAME:Koča na Ljubelju
X-ORIGINAL-URL:https://stari-loibl.com/de/
X-WR-CALDESC:Veranstaltungen für Koča na Ljubelju
BEGIN:VTIMEZONE
TZID:Europe/Ljubljana
BEGIN:DAYLIGHT
TZOFFSETFROM:+0100
TZOFFSETTO:+0200
TZNAME:CEST
DTSTART:20250330T010000
END:DAYLIGHT
BEGIN:STANDARD
TZOFFSETFROM:+0200
TZOFFSETTO:+0100
TZNAME:CET
DTSTART:20251026T010000
END:STANDARD
END:VTIMEZONE
BEGIN:VEVENT
DTSTART;VALUE=DATE:20251206
DTEND;VALUE=DATE:20251207
DTSTAMP:20260423T100340
CREATED:20181128T191420Z
LAST-MODIFIED:20250210T081355Z
UID:609-1764979200-1765065599@stari-loibl.com
SUMMARY:11. Advent am Berg in der Koča Stari Loibl Hütte
DESCRIPTION:
URL:https://stari-loibl.com/de/dogodki/advent-am-berg-in-der-koca-stari-loibl-huette/
LOCATION:Koča Stari Loibl Hütte\, Loibl\, Tržič\, 9163\, Slovenija
ATTACH;FMTTYPE=image/jpeg:https://stari-loibl.com/wp-content/uploads/2018/11/stari-loibl-advent-1.jpg
END:VEVENT
END:VCALENDAR