BEGIN:VCALENDAR
VERSION:2.0
PRODID:-//Koča na Ljubelju - ECPv5.1.5//NONSGML v1.0//EN
CALSCALE:GREGORIAN
METHOD:PUBLISH
X-WR-CALNAME:Koča na Ljubelju
X-ORIGINAL-URL:https://stari-loibl.com/de/
X-WR-CALDESC:Veranstaltungen für Koča na Ljubelju
BEGIN:VTIMEZONE
TZID:Europe/Ljubljana
BEGIN:DAYLIGHT
TZOFFSETFROM:+0100
TZOFFSETTO:+0200
TZNAME:CEST
DTSTART:20200329T010000
END:DAYLIGHT
BEGIN:STANDARD
TZOFFSETFROM:+0200
TZOFFSETTO:+0100
TZNAME:CET
DTSTART:20201025T010000
END:STANDARD
END:VTIMEZONE
BEGIN:VEVENT
DTSTART;VALUE=DATE:20200620
DTEND;VALUE=DATE:20200621
DTSTAMP:20260422T164240
CREATED:20181127T133240Z
LAST-MODIFIED:20191119T094245Z
UID:773-1592611200-1592697599@stari-loibl.com
SUMMARY:6. Tischler Kirchtag am Stari Loibl
DESCRIPTION:
URL:https://stari-loibl.com/de/dogodki/6-tischler-kirchtag-am-stari-loibl-2020/
LOCATION:Koča Stari Loibl Hütte\, Loibl\, Tržič\, 9163\, Slovenija
ATTACH;FMTTYPE=image/jpeg:https://stari-loibl.com/wp-content/uploads/2018/11/stari-loibl-semenj.jpg
END:VEVENT
END:VCALENDAR