BEGIN:VCALENDAR
VERSION:2.0
PRODID:-//Koča na Ljubelju - ECPv5.1.5//NONSGML v1.0//EN
CALSCALE:GREGORIAN
METHOD:PUBLISH
X-WR-CALNAME:Koča na Ljubelju
X-ORIGINAL-URL:https://stari-loibl.com/de/
X-WR-CALDESC:Veranstaltungen für Koča na Ljubelju
BEGIN:VTIMEZONE
TZID:Europe/Ljubljana
BEGIN:DAYLIGHT
TZOFFSETFROM:+0100
TZOFFSETTO:+0200
TZNAME:CEST
DTSTART:20200329T010000
END:DAYLIGHT
BEGIN:STANDARD
TZOFFSETFROM:+0200
TZOFFSETTO:+0100
TZNAME:CET
DTSTART:20201025T010000
END:STANDARD
END:VTIMEZONE
BEGIN:VEVENT
DTSTART;VALUE=DATE:20200606
DTEND;VALUE=DATE:20200607
DTSTAMP:20260422T145928
CREATED:20200206T074525Z
LAST-MODIFIED:20200206T075019Z
UID:960-1591401600-1591487999@stari-loibl.com
SUMMARY:3. Evropafest
DESCRIPTION:
URL:https://stari-loibl.com/de/dogodki/3-evropafest/
LOCATION:Koča Stari Loibl Hütte\, Loibl\, Tržič\, 9163\, Slovenija
ATTACH;FMTTYPE=image/jpeg:https://stari-loibl.com/wp-content/uploads/2018/11/stari-loibl-evropafest-1.jpg
END:VEVENT
END:VCALENDAR